BEGIN:VCALENDAR
VERSION:2.0
PRODID:-//ChamberMaster//Event Calendar 2.0//EN
METHOD:PUBLISH
X-PUBLISHED-TTL:P3D
REFRESH-INTERVAL:P3D
CALSCALE:GREGORIAN
BEGIN:VEVENT
DTSTART:20210413T150000Z
DTEND:20210413T170000Z
X-MICROSOFT-CDO-ALLDAYEVENT:FALSE
SUMMARY:Kentucky Movers and Makers Learning Series - Hand Lettering 101
DESCRIPTION:Kentucky Movers and Makers events are open to the public.  Class sizes are limited due to Covid-19 restrictions\, and masks/social distancing required.  The sessions will provide educational sessions on equipment within the makerspace\, and hands on training projects\, and other educational classes for makers and entrepreneurs of all kinds.
X-ALT-DESC;FMTTYPE=text/html:Kentucky Movers and Makers events are open to the public.&nbsp\; Class sizes are limited due to Covid-19 restrictions\, and masks/social distancing required.&nbsp\; The sessions will provide educational sessions on equipment within the makerspace\, and hands on training projects\, and other educational classes for makers and entrepreneurs of all kinds.
LOCATION:Kentucky Movers and Makers 130 N. Seminary
UID:e.1578.4549
SEQUENCE:3
DTSTAMP:20260424T133119Z
URL:https://business.hopkinscochamber.com/events/details/kentucky-movers-and-makers-learning-series-hand-lettering-101-4549
END:VEVENT

END:VCALENDAR
