BEGIN:VCALENDAR
VERSION:2.0
PRODID:-//ChamberMaster//Event Calendar 2.0//EN
METHOD:PUBLISH
X-PUBLISHED-TTL:P3D
REFRESH-INTERVAL:P3D
CALSCALE:GREGORIAN
BEGIN:VEVENT
DTSTART:20210429T223000Z
DTEND:20210430T003000Z
X-MICROSOFT-CDO-ALLDAYEVENT:FALSE
SUMMARY:Kentucky Movers and Makers Learning Series - Crafts and Cupcakes\, Custom Door Hanger Class
DESCRIPTION:Kentucky Movers and Makers Crafts and Cupcakes\, Custom Door Hanger Class.  Class sizes are limited due to Covid-19 restrictions\, and masks/social distancing required.
X-ALT-DESC;FMTTYPE=text/html:Kentucky Movers and Makers Crafts and Cupcakes\, Custom Door Hanger Class.&nbsp\; Class sizes are limited due to Covid-19 restrictions\, and masks/social distancing required.&nbsp\;&nbsp\;
LOCATION:Kentucky Movers and Makers 130 N. Seminary
UID:e.1578.4554
SEQUENCE:3
DTSTAMP:20260424T133258Z
URL:https://business.hopkinscochamber.com/events/details/kentucky-movers-and-makers-learning-series-crafts-and-cupcakes-custom-door-hanger-class-4554
END:VEVENT

END:VCALENDAR
