BEGIN:VCALENDAR
VERSION:2.0
PRODID:-//ChamberMaster//Event Calendar 2.0//EN
METHOD:PUBLISH
X-PUBLISHED-TTL:P3D
REFRESH-INTERVAL:P3D
CALSCALE:GREGORIAN
BEGIN:VEVENT
DTSTART:20210928T223000Z
DTEND:20210929T003000Z
X-MICROSOFT-CDO-ALLDAYEVENT:FALSE
SUMMARY:Kentucky Movers and Makers - Intro to Wood
DESCRIPTION:Join us at Kentucky Movers and Makers community Maker Space as woodworker Shawn Crick introduces different types of wood and what to do with them! Not a woodworker? No problem! This class is a great intro before learning woodworking or other equipment. \n \n\nThere are limited spots available\, don't miss out!
X-ALT-DESC;FMTTYPE=text/html:<span style="color: rgb(98\, 98\, 98)\; font-family: pt-sans\, sans-serif\; font-size: 14px\; background-color: rgb(255\, 255\, 255)\;">Join us at Kentucky Movers and Makers community Maker Space as woodworker Shawn Crick introduces different types of wood and what to do with them! Not a woodworker? No problem! This class is a great intro before learning woodworking or other equipment.&nbsp\;</span>\n<div style="color: rgb(98\, 98\, 98)\; font-family: pt-sans\, sans-serif\; font-size: 14px\; background-color: rgb(255\, 255\, 255)\;">&nbsp\;</div>\n\n<div style="color: rgb(98\, 98\, 98)\; font-family: pt-sans\, sans-serif\; font-size: 14px\; background-color: rgb(255\, 255\, 255)\;">There are limited spots available\, don&#39\;t miss out!</div>\n
LOCATION:This event is at Kentucky Movers and Makers. 130 N Seminary Street\, Madisonville KY\, 42431.
UID:e.1578.5248
SEQUENCE:3
DTSTAMP:20260424T065952Z
URL:https://business.hopkinscochamber.com/events/details/kentucky-movers-and-makers-intro-to-wood-5248
END:VEVENT

END:VCALENDAR
