BEGIN:VCALENDAR
VERSION:2.0
PRODID:-//ChamberMaster//Event Calendar 2.0//EN
METHOD:PUBLISH
X-PUBLISHED-TTL:P3D
REFRESH-INTERVAL:P3D
CALSCALE:GREGORIAN
BEGIN:VEVENT
DTSTART:20210907T223000Z
DTEND:20210908T003000Z
X-MICROSOFT-CDO-ALLDAYEVENT:FALSE
SUMMARY:Kentucky Movers and Makers - Hand Lettering 201
DESCRIPTION:Jordan Winstead is back for an advanced Hand Lettering 201 class! Hand Lettering is the perfect touch to your business\, or a fun skill to learn with friends. Whether you are a busy mom getting away while your kids are at school\, retired\, or working and looking for ways to help your business\, this class is for EVERYONE! \n \n\nThis class will expound upon the intro 101 class. Some experience lettering at home or attending the 101 class encouraged. (Please bring your wirebound sketch book from 101 class! If you need a new one\, books are for sale under the Resource tab during checkout.)
X-ALT-DESC;FMTTYPE=text/html:<span style="color: rgb(98\, 98\, 98)\; font-family: pt-sans\, sans-serif\; font-size: 14px\; background-color: rgb(255\, 255\, 255)\;">Jordan Winstead is back for an advanced Hand Lettering 201 class! Hand Lettering is the perfect touch to your business\, or a fun skill to learn with friends. Whether you are a busy mom getting away while your kids are at school\, retired\, or working and looking for ways to help your business\, this class is for EVERYONE!&nbsp\;</span>\n<div style="color: rgb(98\, 98\, 98)\; font-family: pt-sans\, sans-serif\; font-size: 14px\; background-color: rgb(255\, 255\, 255)\;">&nbsp\;</div>\n\n<div style="color: rgb(98\, 98\, 98)\; font-family: pt-sans\, sans-serif\; font-size: 14px\; background-color: rgb(255\, 255\, 255)\;">This class will expound upon the intro 101 class. Some experience lettering at home or attending the 101 class encouraged.&nbsp\;<span style="color: rgb(98\, 98\, 98)\; font-family: pt-sans\, sans-serif\; font-size: 14px\; background-color: rgb(255\, 255\, 255)\;">(Please bring your wirebound sketch book from 101 class! If you need a new one\, books are for sale under the Resource tab during checkout.)&nbsp\;</span></div>\n
LOCATION:This event will take place at Kentucky Movers and Makers. 130 N Seminary Street\, Madisonville KY 42431.
UID:e.1578.5240
SEQUENCE:3
DTSTAMP:20260424T065854Z
URL:https://business.hopkinscochamber.com/events/details/kentucky-movers-and-makers-hand-lettering-201-5240
END:VEVENT

END:VCALENDAR
