BEGIN:VCALENDAR
VERSION:2.0
PRODID:-//ChamberMaster//Event Calendar 2.0//EN
METHOD:PUBLISH
X-PUBLISHED-TTL:P3D
REFRESH-INTERVAL:P3D
CALSCALE:GREGORIAN
BEGIN:VEVENT
DTSTART:20210923T150000Z
DTEND:20210923T170000Z
X-MICROSOFT-CDO-ALLDAYEVENT:FALSE
SUMMARY:Kentucky Movers and Makers - DIY Farmhouse Wooden Bead Garland Class
DESCRIPTION:In this class make your own Farmhouse Bead Garland with local artist Beth Atcher. Wooden bead garland is the perfect way to decorate a basket\, tiered tray\, or mantle for upcoming holidays. This class allows you to paint your own garland so that it is unique and matches your decor!
X-ALT-DESC;FMTTYPE=text/html:<span style="color: rgb(98\, 98\, 98)\; font-family: pt-sans\, sans-serif\; font-size: 14px\; background-color: rgb(255\, 255\, 255)\;">In this class make your own Farmhouse Bead Garland with local artist Beth Atcher. Wooden bead garland is the perfect way to decorate a basket\, tiered tray\, or mantle for upcoming holidays. This class allows you to paint your own garland so that it is unique and matches your decor!&nbsp\;</span>
LOCATION:This event will take place at Kentucky Movers and Makers. 130 N Seminary Street\, Madisonville KY 42431.
UID:e.1578.5242
SEQUENCE:3
DTSTAMP:20260424T070049Z
URL:https://business.hopkinscochamber.com/events/details/kentucky-movers-and-makers-diy-farmhouse-wooden-bead-garland-class-5242
END:VEVENT

END:VCALENDAR
