BEGIN:VCALENDAR
VERSION:2.0
PRODID:-//ChamberMaster//Event Calendar 2.0//EN
METHOD:PUBLISH
X-PUBLISHED-TTL:P3D
REFRESH-INTERVAL:P3D
CALSCALE:GREGORIAN
BEGIN:VEVENT
DTSTART:20211002T150000Z
DTEND:20211002T180000Z
X-MICROSOFT-CDO-ALLDAYEVENT:FALSE
SUMMARY:Kentucky Movers and Makers - Demo Day
DESCRIPTION:Grab breakfast and coffee at The Roastery at Kentucky Movers and Makers before dropping in for Demo Day to see local makers working at the maker space. Watch as they hand craft items and see how their products are made!
X-ALT-DESC;FMTTYPE=text/html:<span style="color: rgb(98\, 98\, 98)\; font-family: pt-sans\, sans-serif\; font-size: 14px\; background-color: rgb(255\, 255\, 255)\;">Grab breakfast and coffee at The Roastery at Kentucky Movers and Makers before dropping in for Demo Day to see local makers working at the maker space. Watch as they hand craft items and see how their products are made!</span>\n<div style="color: rgb(98\, 98\, 98)\; font-family: pt-sans\, sans-serif\; font-size: 14px\; background-color: rgb(255\, 255\, 255)\;">&nbsp\;</div>\n
LOCATION:This event is at Kentucky Movers and Makers. 130 N Seminary Street\, Madisonville KY\, 42431.
UID:e.1578.5244
SEQUENCE:3
DTSTAMP:20260424T055149Z
URL:https://business.hopkinscochamber.com/events/details/kentucky-movers-and-makers-demo-day-5244
END:VEVENT

END:VCALENDAR
