BEGIN:VCALENDAR
VERSION:2.0
PRODID:-//ChamberMaster//Event Calendar 2.0//EN
METHOD:PUBLISH
X-PUBLISHED-TTL:P3D
REFRESH-INTERVAL:P3D
CALSCALE:GREGORIAN
BEGIN:VEVENT
DTSTART:20210921T220000Z
DTEND:20210922T010000Z
X-MICROSOFT-CDO-ALLDAYEVENT:FALSE
SUMMARY:Kentucky Movers and Makers - Beginners CNC Wood Carving
DESCRIPTION:Introduction to CNC Wood Carving. Participants will learn the basics of the V-Carve Software and the use of the CNC controller and CNC Router. Each registrant will go home with a completed project.\n***Requirements:***\n\nMust be 18 years old to attend. \n\nEach registrant must wear safety glasses.
X-ALT-DESC;FMTTYPE=text/html:<span style="color: rgb(98\, 98\, 98)\; font-family: pt-sans\, sans-serif\; font-size: 14px\; background-color: rgb(255\, 255\, 255)\;">Introduction to CNC Wood Carving. Participants will learn the basics of the V-Carve Software and the use of the CNC controller and CNC Router. Each registrant will go home with a completed project.</span>\n<div style="color: rgb(98\, 98\, 98)\; font-family: pt-sans\, sans-serif\; font-size: 14px\; background-color: rgb(255\, 255\, 255)\;">***Requirements:***</div>\n\n<div style="color: rgb(98\, 98\, 98)\; font-family: pt-sans\, sans-serif\; font-size: 14px\; background-color: rgb(255\, 255\, 255)\;">Must be 18 years old to attend.&nbsp\;</div>\n\n<div style="color: rgb(98\, 98\, 98)\; font-family: pt-sans\, sans-serif\; font-size: 14px\; background-color: rgb(255\, 255\, 255)\;">Each registrant must wear safety glasses.&nbsp\;&nbsp\;</div>\n
LOCATION:This event will take place at Kentucky Movers and Makers. 130 North Seminary Street\, Madisonville KY\, 42431.
UID:e.1578.5241
SEQUENCE:3
DTSTAMP:20260424T065952Z
URL:https://business.hopkinscochamber.com/events/details/kentucky-movers-and-makers-beginners-cnc-wood-carving-5241
END:VEVENT

END:VCALENDAR
