BEGIN:VCALENDAR
VERSION:2.0
PRODID:-//ChamberMaster//Event Calendar 2.0//EN
METHOD:PUBLISH
X-PUBLISHED-TTL:P3D
REFRESH-INTERVAL:P3D
CALSCALE:GREGORIAN
BEGIN:VEVENT
DTSTART:20210424T150000Z
DTEND:20210424T160000Z
X-MICROSOFT-CDO-ALLDAYEVENT:FALSE
SUMMARY:Kayla Rickard - Rickard's Rustic Wood Works
DESCRIPTION:Workshop by Kayla Rickard for kids and adults assembling and decorating birdhouses for the Spring
X-ALT-DESC;FMTTYPE=text/html:Workshop by Kayla Rickard for kids and adults assembling and decorating birdhouses for the Spring
LOCATION:Hopkins County Regional Chamber
UID:e.1578.4714
SEQUENCE:3
DTSTAMP:20260424T133303Z
URL:https://business.hopkinscochamber.com/events/details/kayla-rickard-rickard-s-rustic-wood-works-4714
END:VEVENT

END:VCALENDAR
