BEGIN:VCALENDAR
VERSION:2.0
PRODID:-//ChamberMaster//Event Calendar 2.0//EN
METHOD:PUBLISH
X-PUBLISHED-TTL:P3D
REFRESH-INTERVAL:P3D
CALSCALE:GREGORIAN
BEGIN:VEVENT
DTSTART:20210622T223000Z
DTEND:20210623T000000Z
X-MICROSOFT-CDO-ALLDAYEVENT:FALSE
SUMMARY:June Member Meeting Toast to Retail
DESCRIPTION:Join us for our June Member Meeting to Toast our retail community and to hear from our keynote speaker\, Sarah Beth Thornton\, Vice President of Business Development for Retail Strategies in Birmingham\, AL. Will will also be honoree \n\n\nWe will also be honoring five local businesses that have collectively operated in Hopkins County for 360 years. \n\n\n	Calhoun Feed Service\n	Clements Jewelers Inc.\n	Legate's Furniture World\n	Merle Norman Cosmetic Studio\n	Metcalfe Florist & Pleasant View Greenhouses\, Inc.
X-ALT-DESC;FMTTYPE=text/html:<span style="color: rgb(51\, 51\, 51)\; font-family: sans-serif\, Arial\, Verdana\, &quot\;Trebuchet MS&quot\;\; font-size: 12px\;"><span style="font-family: arial\;">Join us for our June Member Meeting to Toast our retail community and to hear from our keynote speaker\, Sarah Beth Thornton\, Vice President of Business Development for Retail Strategies in Birmingham\, AL. Will will also be honoree&nbsp\;</span></span>\n<div style="color: rgb(51\, 51\, 51)\; font-family: sans-serif\, Arial\, Verdana\, &quot\;Trebuchet MS&quot\;\; font-size: 13px\; margin-left: 0in\;"><br />\n<span style="font-size: 12px\;"><span style="font-family: arial\;">We&nbsp\;will also be honoring five local businesses that have collectively operated in Hopkins County for 360 years.&nbsp\;</span></span></div>\n\n<ul style="padding: 0px 40px\; color: rgb(51\, 51\, 51)\; font-family: sans-serif\, Arial\, Verdana\, &quot\;Trebuchet MS&quot\;\; font-size: 13px\;">\n	<li><span style="font-size: 12px\;"><span style="font-family: arial\;">Calhoun Feed Service</span></span></li>\n	<li>Clements Jewelers Inc.</li>\n	<li><span style="font-size: 12px\;"><span style="font-family: arial\;"><span style="color: rgb(32\, 33\, 36)\; background-color: rgb(255\, 255\, 255)\;">Legate&#39\;s Furniture World</span></span></span></li>\n	<li><span style="font-size: 12px\;"><span style="font-family: arial\;"><span style="color: rgb(32\, 33\, 36)\; background-color: rgb(255\, 255\, 255)\;">Merle Norman Cosmetic Studio</span></span></span></li>\n	<li><span style="font-size: 12px\;"><span style="font-family: arial\;"><span style="color: rgb(32\, 33\, 36)\; background-color: rgb(255\, 255\, 255)\;">Metcalfe Florist &amp\; Pleasant View Greenhouses\, Inc.</span></span></span></li>\n</ul>\n
LOCATION:This will be an outdoor event located on Sugg St. in Downtown Madisonville.
UID:e.1578.4759
SEQUENCE:3
DTSTAMP:20260424T103908Z
URL:https://business.hopkinscochamber.com/events/details/june-member-meeting-toast-to-retail-4759
END:VEVENT

END:VCALENDAR
