BEGIN:VCALENDAR
VERSION:2.0
PRODID:-//ChamberMaster//Event Calendar 2.0//EN
METHOD:PUBLISH
X-PUBLISHED-TTL:P3D
REFRESH-INTERVAL:P3D
CALSCALE:GREGORIAN
BEGIN:VEVENT
DTSTART:20220111T180000Z
DTEND:20220111T190000Z
X-MICROSOFT-CDO-ALLDAYEVENT:FALSE
SUMMARY:Join Us to Learn About Workforce Programs\, Resources and Incentives
DESCRIPTION:Join Us to Learn About Workforce Programs\, Resources\, and Incentives
X-ALT-DESC;FMTTYPE=text/html:<span class="JsGRdQ">Join Us to Learn About Workforce Programs\, Resources\, and Incentives</span>
LOCATION:MTEC Building 755 Industrial Dr. Madisonville\, KY 42431
UID:e.1578.5329
SEQUENCE:3
DTSTAMP:20260424T021522Z
URL:https://business.hopkinscochamber.com/events/details/join-us-to-learn-about-workforce-programs-resources-and-incentives-5329
END:VEVENT

END:VCALENDAR
