BEGIN:VCALENDAR
VERSION:2.0
PRODID:-//ChamberMaster//Event Calendar 2.0//EN
METHOD:PUBLISH
X-PUBLISHED-TTL:P3D
REFRESH-INTERVAL:P3D
CALSCALE:GREGORIAN
BEGIN:VEVENT
DTSTART:20220224T230000Z
DTEND:20220225T010000Z
X-MICROSOFT-CDO-ALLDAYEVENT:FALSE
SUMMARY:Jewelry Class - Make Your Own Charm Bracelet
DESCRIPTION:Local artisan Beth Atcher\, of One Dream Reached Jewelry in Central City\, KY\, will be teaching a "Build Your Own Charm Bracelet" class at Kentucky Movers and Makers this month. Beth will be teaching the class basic skills of knot tying\, tools needed\, and techniques to make 3 stretch bracelets with 1 charm on each bracelet. No experience is necessary before attending this fun class\, and makerspace membership is not required to attend. Leave with 3 bracelets\, packet of instructions and a new skill in your toolkit. Whether you are crafty by nature or just looking for a fun way to spend the evening\, this class will fill all of your needs. \n\n\n\n**The recommended age to attend is 6 years old\, and children under 18 require a guardian.
X-ALT-DESC;FMTTYPE=text/html:<span style="font-size:14px\;">Local artisan Beth Atcher\, of One Dream Reached Jewelry in Central City\, KY\, will be teaching a &ldquo\;Build Your Own Charm Bracelet&rdquo\; class at Kentucky Movers and Makers this month. Beth will be teaching the class basic skills of knot tying\, tools needed\, and techniques to make 3 stretch bracelets with 1 charm on each bracelet.&nbsp\;No experience is necessary before attending this fun class\, and makerspace membership is not required to attend. Leave with 3 bracelets\, packet of instructions and a new skill in your toolkit. Whether you are crafty by nature or just looking for a fun way to spend the evening\, this class will fill all of your needs.&nbsp\;<br />\n<br />\n**The recommended age to attend is 6 years old\, and children under 18 require a guardian.&nbsp\;</span>
LOCATION:Kentucky Movers and Makers 130 N. Seminary St. Madisonville KY 42431
UID:e.1578.5658
SEQUENCE:3
DTSTAMP:20260424T010528Z
URL:https://business.hopkinscochamber.com/events/details/jewelry-class-make-your-own-charm-bracelet-5658
END:VEVENT

END:VCALENDAR
