BEGIN:VCALENDAR
VERSION:2.0
PRODID:-//ChamberMaster//Event Calendar 2.0//EN
METHOD:PUBLISH
X-PUBLISHED-TTL:P3D
REFRESH-INTERVAL:P3D
CALSCALE:GREGORIAN
BEGIN:VEVENT
DTSTART:20220203T013000Z
DTEND:20220203T023000Z
X-MICROSOFT-CDO-ALLDAYEVENT:FALSE
SUMMARY:Innovate + Caffeinate
DESCRIPTION:Kentucky Innovation Station will host Innovate + Caffeinate\, a free program to engage\, educate and connect local entrepreneurs with the goal to build a strong startup community over a cup of coffee and a conversation. Entrepreneurs\, innovators\, supporters\, and other like-minded community members are invited to attend Innovate + Caffeinate on the first Wednesday of every month at 7:30 AM held at Kentucky Innovation Station. Entrepreneurs\, like-minded professionals\, and ecosystem builders offer support and learning opportunities as a presenter deliver a brief talk about their business or brewing business ideas and the opportunities and challenges that come along with both. The Innovate + Caffeinate community offers workshop conversations about lessons learned and an opportunity to connect and help work through business strategies.\n\nThe upcoming Innovate + Caffeinate event will feature local entrepreneur Jinger Lloyd\, owner of Scores Pizza on February 2nd\, 2022. Scores Pizza opened Thanksgiving weekend 2021 at Parkway Plaza Mall in Madisonville.
X-ALT-DESC;FMTTYPE=text/html:<span style="font-size:14px\;"><span style="font-family:arial\,sans-serif\;">Kentucky Innovation Station will host Innovate + Caffeinate\, a free program to engage\, educate and connect local entrepreneurs with the goal to build a strong startup community over a cup of coffee and a conversation.&nbsp\;Entrepreneurs\, innovators\, supporters\, and other like-minded community members are invited to attend Innovate + Caffeinate on the first Wednesday of every month at 7:30 AM held at</span> <span style="font-family:arial\,sans-serif\;">Kentucky Innovation Station.&nbsp\;<span style="background-color:white\;">Entrepreneurs\, like-minded professionals\, and ecosystem builders offer support and learning opportunities as a presenter deliver a brief talk about their business or brewing business ideas and the opportunities and challenges that come along with both. The Innovate + Caffeinate community offers workshop conversations&nbsp\;about lessons learned and an opportunity to connect and help work through business strategies.</span></span></span><br />\n<span style="font-size:20px\;"><strong><span style="font-family:arial\,sans-serif\;">The upcoming Innovate + Caffeinate event will feature local entrepreneur Jinger Lloyd\, owner of Scores Pizza on February 2nd\, 2022. Scores Pizza opened Thanksgiving weekend 2021 at Parkway Plaza Mall in Madisonville.&nbsp\;</span></strong></span><br />\n<br />\n&nbsp\;
LOCATION:Kentucky Innovation Station 38 W. Arch St. Madisonville KY\, 42431
UID:e.1578.5598
SEQUENCE:3
DTSTAMP:20260424T005043Z
URL:https://business.hopkinscochamber.com/events/details/innovate-caffeinate-5598
END:VEVENT

END:VCALENDAR
