BEGIN:VCALENDAR
VERSION:2.0
PRODID:-//ChamberMaster//Event Calendar 2.0//EN
METHOD:PUBLISH
X-PUBLISHED-TTL:P3D
REFRESH-INTERVAL:P3D
CALSCALE:GREGORIAN
BEGIN:VEVENT
DTSTART:20211201T133000Z
DTEND:20211201T150000Z
X-MICROSOFT-CDO-ALLDAYEVENT:FALSE
SUMMARY:Innovate + Caffeinate
DESCRIPTION:Kentucky Innovation Station will host Innovate + Caffeinate\, a free program to engage\, educate and connect local entrepreneurs with the goal to build a strong startup community over a cup of coffee and a conversation. Entrepreneurs\, innovators\, supporters\, and other like-minded community members are invited to attend Innovate + Caffeinate. Entrepreneurs\, like-minded professionals\, and ecosystem builders offer support and learning opportunities as a presenter delivers a brief talk about their business or brewing business ideas and the opportunities and challenges that come along with both. The Innovate + Caffeinate community offers workshop conversations about lessons learned and an opportunity to connect and help work through business strategies. The upcoming Innovate + Caffeinate event will feature local entrepreneur Katie Doran of MadCity Crafts on December 1st\, 2021. MadCity Crafts is a DIY craft studio. They host craft parties that include a buffet of embellishments to make an amazing project that you will be proud to display or even give as a gift! Katie loves how fellowship\, laughter\, and crafting are great therapy and good for the soul!
X-ALT-DESC;FMTTYPE=text/html:<span style="font-size:18px\;"><span style="font-family:times new roman\;">Kentucky Innovation Station will host Innovate + Caffeinate\, a free program to engage\, educate and connect local entrepreneurs with the goal to build a strong startup community over a cup of coffee and a conversation.&nbsp\;Entrepreneurs\, innovators\, supporters\, and other like-minded community members are invited to attend Innovate + Caffeinate.&nbsp\;<span style="background-color:white\;">Entrepreneurs\, like-minded professionals\, and ecosystem builders offer support and learning opportunities as a presenter delivers a brief talk about their business or brewing business ideas and the opportunities and challenges that come along with both. The Innovate + Caffeinate community offers workshop conversations&nbsp\;about lessons learned and an opportunity to connect and help work through business strategies.&nbsp\;</span><strong>The upcoming Innovate + Caffeinate event will feature local entrepreneur Katie Doran of MadCity Crafts on December 1<sup>st</sup>\, 2021. MadCity Crafts is a <span style="color:#333333\;">DIY craft studio. They host craft parties that include a buffet of embellishments to make an amazing project that you will be proud to display or even give as a gift! Katie loves how fellowship\, laughter\, and crafting are great therapy and good for the soul!</span></strong></span></span>
LOCATION:Kentucky Innovation Station 38 W. Arch St\, Madisonville KY 4231
UID:e.1578.5319
SEQUENCE:3
DTSTAMP:20260424T031430Z
URL:https://business.hopkinscochamber.com/events/details/innovate-caffeinate-5319
END:VEVENT

END:VCALENDAR
