BEGIN:VCALENDAR
VERSION:2.0
PRODID:-//ChamberMaster//Event Calendar 2.0//EN
METHOD:PUBLISH
X-PUBLISHED-TTL:P3D
REFRESH-INTERVAL:P3D
CALSCALE:GREGORIAN
BEGIN:VEVENT
DTSTART:20200706T200000Z
DTEND:20200717T210000Z
X-MICROSOFT-CDO-ALLDAYEVENT:FALSE
SUMMARY:Inflation Animation Engineers
DESCRIPTION:Balloon Inflation Animation Engineer is a hands-on\, minds-on\, one-of-a-kind experience that teaches how to creatively twist balloons\, enhance critical thinking skills\, and develop strong communication skills. You'll learn the exciting process of moving air\, bending balloons\, and Blowing Up Smiles. With this exciting themed balloon program kids and adults can experience firsthand what it's like twisting balloons to make balloon animals and balloon friends!
X-ALT-DESC;FMTTYPE=text/html:Balloon Inflation Animation Engineer is a hands-on\, minds-on\, one-of-a-kind experience that teaches how to creatively twist balloons\, enhance critical thinking skills\, and develop strong communication skills. You&rsquo\;ll learn the exciting process of moving air\, bending balloons\, and Blowing Up Smiles. With this exciting themed balloon program kids and adults can experience firsthand what it&rsquo\;s like twisting balloons to make balloon animals and balloon friends!
LOCATION:Online
UID:e.1578.4228
SEQUENCE:3
DTSTAMP:20260425T002708Z
URL:https://business.hopkinscochamber.com/events/details/inflation-animation-engineers-4228
END:VEVENT

END:VCALENDAR
