BEGIN:VCALENDAR
VERSION:2.0
PRODID:-//ChamberMaster//Event Calendar 2.0//EN
METHOD:PUBLISH
X-PUBLISHED-TTL:P3D
REFRESH-INTERVAL:P3D
CALSCALE:GREGORIAN
BEGIN:VEVENT
DTSTART:20220525T150000Z
DTEND:20220525T170000Z
X-MICROSOFT-CDO-ALLDAYEVENT:FALSE
SUMMARY:How to Cash Flow Your Business
DESCRIPTION:Proper cash flow management is the key to long-term financial success. Whether you've been in business a year or 20 years\, utilizing proper strategies can be on of the hardest things you do. \n \n\nJoin us with Professor Chris Wooldridge of Murray State University for a workshop on cash flowing your business! Please sign up on the following link. https://www.kentuckyinnovationstation.com/calendar.html
X-ALT-DESC;FMTTYPE=text/html:<span style="background-color:rgb(255\, 255\, 255)\; color:rgb(98\, 98\, 98)\; font-family:pt-sans\,sans-serif\; font-size:14px">Proper cash flow management is the key to long-term financial success. Whether you&#39\;ve been in business a year or 20 years\, utilizing proper strategies can be on of the hardest things you do.&nbsp\;</span>\n<div>&nbsp\;</div>\n\n<div>Join us with Professor Chris Wooldridge of Murray State University for a workshop on cash flowing your business! Please sign up on the following link.&nbsp\;https://www.kentuckyinnovationstation.com/calendar.html&nbsp\;</div>\n
LOCATION:38 West Arch Street Madisonville\, KY 42431
UID:e.1578.5696
SEQUENCE:3
DTSTAMP:20260423T205953Z
URL:https://business.hopkinscochamber.com/events/details/how-to-cash-flow-your-business-5696
END:VEVENT

END:VCALENDAR
