BEGIN:VCALENDAR
VERSION:2.0
PRODID:-//ChamberMaster//Event Calendar 2.0//EN
METHOD:PUBLISH
X-PUBLISHED-TTL:P3D
REFRESH-INTERVAL:P3D
CALSCALE:GREGORIAN
BEGIN:VEVENT
DTSTART:20231216T170000Z
DTEND:20231216T200000Z
X-MICROSOFT-CDO-ALLDAYEVENT:FALSE
SUMMARY:Hot Coco Crawl
DESCRIPTION:Please join us for the Chamber's first ever Cocoa Crawl. This event will be held in downtown Madisonville\, with select\, participating Chamber Member Businesses. Stay tuned for more info\, and keep an eye on our Facebook page!
X-ALT-DESC;FMTTYPE=text/html:Please join us for the Chamber&#39\;s first ever Cocoa Crawl. This event will be held in downtown Madisonville\, with select\, participating Chamber Member Businesses. Stay tuned for more info\, and keep an eye on our Facebook page!
LOCATION:
UID:e.1578.5976
SEQUENCE:3
DTSTAMP:20260422T205648Z
URL:https://business.hopkinscochamber.com/events/details/hot-coco-crawl-5976
END:VEVENT

END:VCALENDAR
