BEGIN:VCALENDAR
VERSION:2.0
PRODID:-//ChamberMaster//Event Calendar 2.0//EN
METHOD:PUBLISH
X-PUBLISHED-TTL:P3D
REFRESH-INTERVAL:P3D
CALSCALE:GREGORIAN
BEGIN:VEVENT
DTSTART:20211006T140000Z
DTEND:20211006T150000Z
X-MICROSOFT-CDO-ALLDAYEVENT:FALSE
SUMMARY:Hopkins/Muhlenburg Elder Abuse Council Meeting
DESCRIPTION:For the Pennyrile Area Development District
X-ALT-DESC;FMTTYPE=text/html:For the Pennyrile Area Development District
LOCATION:Virtual via Zoom
UID:e.1578.5274
SEQUENCE:3
DTSTAMP:20260424T055338Z
URL:https://business.hopkinscochamber.com/events/details/hopkins-muhlenburg-elder-abuse-council-meeting-5274
END:VEVENT

END:VCALENDAR
