BEGIN:VCALENDAR
VERSION:2.0
PRODID:-//ChamberMaster//Event Calendar 2.0//EN
METHOD:PUBLISH
X-PUBLISHED-TTL:P3D
REFRESH-INTERVAL:P3D
CALSCALE:GREGORIAN
BEGIN:VEVENT
DTSTART:20211207T160000Z
DTEND:20211207T200000Z
X-MICROSOFT-CDO-ALLDAYEVENT:FALSE
SUMMARY:Hopkins County Job Expo
DESCRIPTION:Join us to find out about some great career opportunities! \n\nEmployer early sign up by November 19th\, 2021 for only $80! No code needed!\n\nEmployers must register online to reserve booths.
X-ALT-DESC;FMTTYPE=text/html:Join us to find out about some great career opportunities!&nbsp\;<br />\nEmployer early sign up by November 19th\, 2021 for only $80! No code needed!<br />\nEmployers must register online to reserve booths.
LOCATION:Ballard Convention Center 605 E. Arch St. Madisonville KY 42431
UID:e.1578.5314
SEQUENCE:3
DTSTAMP:20260424T031717Z
URL:https://business.hopkinscochamber.com/events/details/hopkins-county-job-expo-5314
END:VEVENT

END:VCALENDAR
