BEGIN:VCALENDAR
VERSION:2.0
PRODID:-//ChamberMaster//Event Calendar 2.0//EN
METHOD:PUBLISH
X-PUBLISHED-TTL:P3D
REFRESH-INTERVAL:P3D
CALSCALE:GREGORIAN
BEGIN:VEVENT
DTSTART:20210511T190000Z
DTEND:20210512T000000Z
X-MICROSOFT-CDO-ALLDAYEVENT:FALSE
SUMMARY:Hopkins County Farmers Market
DESCRIPTION:Hopkins County Farmers' Market
X-ALT-DESC;FMTTYPE=text/html:Hopkins County Farmers&#39\; Market
LOCATION:Mahr Park Arboretum
UID:e.1578.4993
SEQUENCE:3
DTSTAMP:20260424T120611Z
URL:https://business.hopkinscochamber.com/events/details/hopkins-county-farmers-market-4993
END:VEVENT

END:VCALENDAR
