BEGIN:VCALENDAR
VERSION:2.0
PRODID:-//ChamberMaster//Event Calendar 2.0//EN
METHOD:PUBLISH
X-PUBLISHED-TTL:P3D
REFRESH-INTERVAL:P3D
CALSCALE:GREGORIAN
BEGIN:VEVENT
DTSTART:20210907T190000Z
DTEND:20210908T000000Z
X-MICROSOFT-CDO-ALLDAYEVENT:FALSE
SUMMARY:Hopkins County Farmers Market
DESCRIPTION:Hopkins County Farmers' Market
X-ALT-DESC;FMTTYPE=text/html:Hopkins County Farmers&#39\; Market
LOCATION:Mahr Park Arboretum Danny Peyton Pavilion
UID:e.1578.5010
SEQUENCE:3
DTSTAMP:20260424T070202Z
URL:https://business.hopkinscochamber.com/events/details/hopkins-county-farmers-market-09-07-2021-5010
END:VEVENT

END:VCALENDAR
