BEGIN:VCALENDAR
VERSION:2.0
PRODID:-//ChamberMaster//Event Calendar 2.0//EN
METHOD:PUBLISH
X-PUBLISHED-TTL:P3D
REFRESH-INTERVAL:P3D
CALSCALE:GREGORIAN
BEGIN:VEVENT
DTSTART:20230725T220000Z
DTEND:20230729T170000Z
X-MICROSOFT-CDO-ALLDAYEVENT:FALSE
SUMMARY:Hopkins county Fair- Madisonville Ky
DESCRIPTION:Fair Schedule: JULY 25   JULY 29 2023\n\n$10 (Tuesday-Wednesday) $15 (Thursday-Saturday) Nightly Fair admission price includes unlimited rides and events. Does not include entry fees for participation in specific competitions\, games\, or food.\n\nNo admission refunds and/or rain checks for any event/show or rides. No Re-entry.
X-ALT-DESC;FMTTYPE=text/html:<p style="margin-bottom: calc(1rem * var(--rps-global-vertical-space) * var(--rps-global-line-height))\; font-size: var(--tec-font-size-4)\; line-height: 1.4em\; margin-top: calc(1rem * var(--rps-global-vertical-space) * var(--rps-global-line-height))\; --p-drop-cap-font-size: 400%\; --p-drop-cap-line-height: 1\; --p-drop-cap-font-family: inherit\; color: rgb(20\, 24\, 39)\; font-family: Roboto\;">Fair Schedule: JULY 25 &ndash\; JULY 29 2023</p>\n\n<p style="margin-bottom: calc(1rem * var(--rps-global-vertical-space) * var(--rps-global-line-height))\; font-size: var(--tec-font-size-4)\; line-height: 1.4em\; margin-top: calc(1rem * var(--rps-global-vertical-space) * var(--rps-global-line-height))\; --p-drop-cap-font-size: 400%\; --p-drop-cap-line-height: 1\; --p-drop-cap-font-family: inherit\; color: rgb(20\, 24\, 39)\; font-family: Roboto\;">$10 (Tuesday-Wednesday) $15 (Thursday-Saturday) Nightly Fair admission price includes unlimited rides and events. Does not include entry fees for participation in specific competitions\, games\, or food.</p>\n\n<p style="margin-bottom: calc(1rem * var(--rps-global-vertical-space) * var(--rps-global-line-height))\; font-size: var(--tec-font-size-4)\; line-height: 1.4em\; margin-top: calc(1rem * var(--rps-global-vertical-space) * var(--rps-global-line-height))\; --p-drop-cap-font-size: 400%\; --p-drop-cap-line-height: 1\; --p-drop-cap-font-family: inherit\; color: rgb(20\, 24\, 39)\; font-family: Roboto\;">No admission refunds and/or rain checks for any event/show or rides. No Re-entry.</p>\n
LOCATION:The Ballard Convention Center 605 E Arch ST\, Madisonville KY 42431
UID:e.1578.5959
SEQUENCE:3
DTSTAMP:20260423T033307Z
URL:https://business.hopkinscochamber.com/events/details/hopkins-county-fair-madisonville-ky-5959
END:VEVENT

END:VCALENDAR
