BEGIN:VCALENDAR
VERSION:2.0
PRODID:-//ChamberMaster//Event Calendar 2.0//EN
METHOD:PUBLISH
X-PUBLISHED-TTL:P3D
REFRESH-INTERVAL:P3D
CALSCALE:GREGORIAN
BEGIN:VEVENT
DTSTART:20200722T133000Z
DTEND:20200723T210000Z
X-MICROSOFT-CDO-ALLDAYEVENT:FALSE
SUMMARY:Hooked on Science Camp
DESCRIPTION:Is your child "Hooked on Science?" Murray State University is excited to present Jason Lindsey\, aka "Mr. Science\," with Hooked on Science. "Mr. Science" is a nationally-recognized STEM educator\, meteorologist\, and author. He's appeared on the NBC Today Show\, Fox & Friends\, RFD-TV\, WeatherNation\, and television stations across the United States getting America "Hooked on Science." Jason's camps are the first nationally to earn Sensory Inclusive  Certification\, which means this camp is certified for kids with autism and other sensory needs. Your child will explore some of Jason's most popular\, mind-blowing science experiments throughout the camp. Campers will engineer Fortnite and Minecraft creations. They'll use Power Tiles\, Ozobot\, Cubelets\, and more to explore electricity\, sound\, force\, motion\, the engineering design process\, and more.
X-ALT-DESC;FMTTYPE=text/html:Is your child &quot\;Hooked on Science?&quot\; Murray State University is excited to present Jason Lindsey\, aka &quot\;Mr. Science\,&quot\; with Hooked on Science. &quot\;Mr. Science&quot\; is a nationally-recognized STEM educator\, meteorologist\, and author. He&rsquo\;s appeared on the NBC Today Show\, Fox &amp\; Friends\, RFD-TV\, WeatherNation\, and television stations across the United States getting America &ldquo\;Hooked on Science.&rdquo\; Jason&rsquo\;s camps are the first nationally to earn Sensory Inclusive&trade\; Certification\, which means this camp is certified for kids with autism and other sensory needs. Your child will explore some of Jason&#39\;s most popular\, mind-blowing science experiments throughout the camp. Campers will engineer Fortnite and Minecraft creations. They&rsquo\;ll use Power Tiles\, Ozobot\, Cubelets\, and more to explore electricity\, sound\, force\, motion\, the engineering design process\, and more.
LOCATION:Murray State University Madisonville Regional Campus
UID:e.1578.4165
SEQUENCE:3
DTSTAMP:20260425T001743Z
URL:https://business.hopkinscochamber.com/events/details/hooked-on-science-camp-4165
END:VEVENT

END:VCALENDAR
