BEGIN:VCALENDAR
VERSION:2.0
PRODID:-//ChamberMaster//Event Calendar 2.0//EN
METHOD:PUBLISH
X-PUBLISHED-TTL:P3D
REFRESH-INTERVAL:P3D
CALSCALE:GREGORIAN
BEGIN:VEVENT
DTSTART:20211205T190000Z
DTEND:20211205T230000Z
X-MICROSOFT-CDO-ALLDAYEVENT:FALSE
SUMMARY:Holiday Tour of Homes
DESCRIPTION:The Woman's Club of Madisonville hosts its annual Holiday Tour of Homes\, featuring five showcase homes decorated for the holidays in a variety of styles and traditions.
X-ALT-DESC;FMTTYPE=text/html:The Woman&#39\;s Club of Madisonville hosts its annual Holiday Tour of Homes\, featuring five showcase homes decorated for the holidays in a variety of styles and traditions.&nbsp\;
LOCATION:
UID:e.1578.5318
SEQUENCE:3
DTSTAMP:20260424T031854Z
URL:https://business.hopkinscochamber.com/events/details/holiday-tour-of-homes-5318
END:VEVENT

END:VCALENDAR
