BEGIN:VCALENDAR
VERSION:2.0
PRODID:-//ChamberMaster//Event Calendar 2.0//EN
METHOD:PUBLISH
X-PUBLISHED-TTL:P3D
REFRESH-INTERVAL:P3D
CALSCALE:GREGORIAN
BEGIN:VEVENT
DTSTART;VALUE=DATE:20231103
DTEND;VALUE=DATE:20231105
TRANSP:TRANSPARENT
X-MICROSOFT-CDO-ALLDAYEVENT:TRUE
SUMMARY:Holiday Open House
DESCRIPTION:Join us for one of the most anticipated events of each year! We look forward to Holiday Open House each year\, as do much of the community. Below you will find the list of participating businesses. We look forward to seeing everyone our shopping and supporting local! \n\n\n\nA+M Monogram\n\nEvolved Nutrition\n\nDempsey St. Baking Co.\n\nLegates Furniture World\n\nGather at the Mark\n\nBaldes Salon and Day Spa\n\nMerle Norman Cosmetics\n\nMaggies Cakes & More\n\nClements Jewelers\n\nMad City Carpet Barn\n\nFalcon Creek Boutique\n\nAll Occasions Formals\n\nCampfire Roasters\n\nThe Gift Horse\n\nBuds & Bows\n\nMadCity Wicks & Wine\n\nCute as a Button Boutique\n\nMetcalfe Florist\n\nHuddlestons Jewel Gallery\n\nRosie Mill Boutique\n\nMadCity Scrubs\n\nYMCA\n\nTodd's Furniture\n\nPoppy & Clover\n\nGolden Glaze Bakery\n\nCalhoun's Custom Meats\n\nExotic Florist\n\nScore's Pizza\n\nKentucky Movers and Makers\n\nMadisonville Beauty College\n\nTradewater Brewing Company\n\nMadCity Drinks and Treats\n\nSwaggy P's
X-ALT-DESC;FMTTYPE=text/html:Join us for one of the most anticipated events of each year! We look forward to Holiday Open House each year\, as do much of the community. Below you will find the list of participating businesses. We look forward to seeing everyone our shopping and supporting local!&nbsp\;<br />\n<br />\n<span style="font-family:times new roman\,serif\;"><span style="font-size:12.0pt\;">A+M Monogram</span></span><br />\n<span style="font-family:times new roman\,serif\;"><span style="font-size:12.0pt\;">Evolved Nutrition</span></span><br />\n<span style="font-family:times new roman\,serif\;"><span style="font-size:12.0pt\;">Dempsey St. Baking Co.</span></span><br />\n<span style="font-family:times new roman\,serif\;"><span style="font-size:12.0pt\;">Legates Furniture World</span></span><br />\n<span style="font-family:times new roman\,serif\;"><span style="font-size:12.0pt\;">Gather at the Mark</span></span><br />\n<span style="font-family:times new roman\,serif\;"><span style="font-size:12.0pt\;">Baldes Salon and Day Spa</span></span><br />\n<span style="font-family:times new roman\,serif\;"><span style="font-size:12.0pt\;">Merle Norman Cosmetics</span></span><br />\n<span style="font-family:times new roman\,serif\;"><span style="font-size:12.0pt\;">Maggies Cakes &amp\; More</span></span><br />\n<span style="font-family:times new roman\,serif\;"><span style="font-size:12.0pt\;">Clements Jewelers</span></span><br />\n<span style="font-family:times new roman\,serif\;"><span style="font-size:12.0pt\;">Mad City Carpet Barn</span></span><br />\n<span style="font-family:times new roman\,serif\;"><span style="font-size:12.0pt\;">Falcon Creek Boutique</span></span><br />\n<span style="font-family:times new roman\,serif\;"><span style="font-size:12.0pt\;">All Occasions Formals</span></span><br />\n<span style="font-family:times new roman\,serif\;"><span style="font-size:12.0pt\;">Campfire Roasters</span></span><br />\n<span style="font-family:times new roman\,serif\;"><span style="font-size:12.0pt\;">The Gift Horse</span></span><br />\n<span style="font-family:times new roman\,serif\;"><span style="font-size:12.0pt\;">Buds &amp\; Bows</span></span><br />\n<span style="font-family:times new roman\,serif\;"><span style="font-size:12.0pt\;">MadCity Wicks &amp\; Wine</span></span><br />\n<span style="font-family:times new roman\,serif\;"><span style="font-size:12.0pt\;">Cute as a Button Boutique</span></span><br />\n<span style="font-family:times new roman\,serif\;"><span style="font-size:12.0pt\;">Metcalfe Florist</span></span><br />\n<span style="font-family:times new roman\,serif\;"><span style="font-size:12.0pt\;">Huddlestons Jewel Gallery</span></span><br />\n<span style="font-family:times new roman\,serif\;"><span style="font-size:12.0pt\;">Rosie Mill Boutique</span></span><br />\n<span style="font-family:times new roman\,serif\;"><span style="font-size:12.0pt\;">MadCity Scrubs</span></span><br />\n<span style="font-family:times new roman\,serif\;"><span style="font-size:12.0pt\;">YMCA</span></span><br />\n<span style="font-family:times new roman\,serif\;"><span style="font-size:12.0pt\;">Todd&rsquo\;s Furniture</span></span><br />\n<span style="font-family:times new roman\,serif\;"><span style="font-size:12.0pt\;">Poppy &amp\; Clover</span></span><br />\n<span style="font-family:times new roman\,serif\;"><span style="font-size:12.0pt\;">Golden Glaze Bakery</span></span><br />\n<span style="font-family:times new roman\,serif\;"><span style="font-size:12.0pt\;">Calhoun&rsquo\;s Custom Meats</span></span><br />\n<span style="font-family:times new roman\,serif\;"><span style="font-size:12.0pt\;">Exotic Florist</span></span><br />\n<span style="font-family:times new roman\,serif\;"><span style="font-size:12.0pt\;">Score&rsquo\;s Pizza<br />\nKentucky Movers and Makers</span></span><br />\n<span style="font-family:times new roman\,serif\;"><span style="font-size:12.0pt\;">Madisonville Beauty College</span></span><br />\n<span style="font-family:times new roman\,serif\;"><span style="font-size:12.0pt\;">Tradewater Brewing Company</span></span><br />\n<span style="font-family:times new roman\,serif\;"><span style="font-size:12.0pt\;">MadCity Drinks and Treats</span></span><br />\n<span style="font-family:times new roman\,serif\;"><span style="font-size:12.0pt\;">Swaggy P&rsquo\;s</span></span><br />\n<br />\n&nbsp\;
LOCATION:Madisonville KY 42431
UID:e.1578.5950
SEQUENCE:3
DTSTAMP:20260422T222329Z
URL:https://business.hopkinscochamber.com/events/details/holiday-open-house-5950
END:VEVENT

END:VCALENDAR
