BEGIN:VCALENDAR
VERSION:2.0
PRODID:-//ChamberMaster//Event Calendar 2.0//EN
METHOD:PUBLISH
X-PUBLISHED-TTL:P3D
REFRESH-INTERVAL:P3D
CALSCALE:GREGORIAN
BEGIN:VEVENT
DTSTART;VALUE=DATE:20221104
DTEND;VALUE=DATE:20221106
TRANSP:TRANSPARENT
X-MICROSOFT-CDO-ALLDAYEVENT:TRUE
SUMMARY:Holiday Open House
DESCRIPTION:Mark your calendars and stay tuned for more info! We are looking forward to this year's Holiday Open House and all the great deals we will have for you all!
X-ALT-DESC;FMTTYPE=text/html:Mark your calendars and stay tuned for more info! We are looking forward to this year&#39\;s Holiday Open House and all the great deals we will have for you all!&nbsp\;
LOCATION:Madisonville KY 42431
UID:e.1578.5690
SEQUENCE:3
DTSTAMP:20260423T130055Z
URL:https://business.hopkinscochamber.com/events/details/holiday-open-house-5690
END:VEVENT

END:VCALENDAR
