BEGIN:VCALENDAR
VERSION:2.0
PRODID:-//ChamberMaster//Event Calendar 2.0//EN
METHOD:PUBLISH
X-PUBLISHED-TTL:P3D
REFRESH-INTERVAL:P3D
CALSCALE:GREGORIAN
BEGIN:VEVENT
DTSTART;VALUE=DATE:20201106
DTEND;VALUE=DATE:20201108
TRANSP:TRANSPARENT
X-MICROSOFT-CDO-ALLDAYEVENT:TRUE
SUMMARY:Holiday Open House
DESCRIPTION:The 2020 Holiday Open House\, powered by Independence Bank\, is the Chamber's annual event to support local member merchants. A total of 65 participants will offer special discounts and give-a-ways on Friday\, November 6th and Saturday\, November 7th.\n\n To map out your weekend of holiday shopping pick up your "Passport to Savings" at any of the participating businesses listed on the Chamber's website at www.hopkinschamber.com. Collect 10 stamps on your Passport to register for the grand prize of a $250 Chamber Check sponsored by Independence Bank. Register at all of the participating businesses for a chance to win 1 of 5 Chamber Checks.\n\nThanks to our friends at Independence Bank\, 400 Local Love shopping bags filled with additional coupons\, gift cards\, giveaways\, and swag from Chamber member businesses.\n\nThe Local Love bag pick-up is scheduled for Thursday\, Nov. 5th at 4:30 p.m. and Friday\, Nov. 6th at 7 a.m. the Madisonville City Park. Bags will be given out on a first come first serve basis. Please call the Chamber at 270-821-3435 with questions.
X-ALT-DESC;FMTTYPE=text/html:<div class="kvgmc6g5 cxmmr5t8 oygrvhab hcukyx3x c1et5uql" style="color: rgb(5\, 5\, 5)\; font-family: inherit\; font-size: 14.86px\; font-variant-numeric: normal\; font-variant-east-asian: normal\; margin: 0px\; overflow-wrap: break-word\;">The 2020 Holiday Open House\, powered by Independence Bank\, is the Chamber&#39\;s annual event to support local member merchants. A total of 65 participants will offer special discounts and give-a-ways on Friday\, November 6th and Saturday\, November 7th.</div>\n\n<div class="o9v6fnle cxmmr5t8 oygrvhab hcukyx3x c1et5uql" style="color: rgb(5\, 5\, 5)\; font-family: inherit\; font-size: 14.86px\; font-variant-numeric: normal\; font-variant-east-asian: normal\; margin: 0.5em 0px 0px\; overflow-wrap: break-word\;">&#8203\;To map out your weekend of holiday shopping pick up your &quot\;Passport to Savings&quot\; at any of the participating businesses listed on the Chamber&#39\;s website at <a class="oajrlxb2 g5ia77u1 qu0x051f esr5mh6w e9989ue4 r7d6kgcz rq0escxv nhd2j8a9 nc684nl6 p7hjln8o kvgmc6g5 cxmmr5t8 oygrvhab hcukyx3x jb3vyjys rz4wbd8a qt6c0cv9 a8nywdso i1ao9s8h esuyzwwr f1sip0of lzcic4wl py34i1dx gpro0wi8" href="https://l.facebook.com/l.php?u=http%3A%2F%2Fwww.hopkinschamber.com%2F%3Ffbclid%3DIwAR1mmgIb-jxYobBnHk4Za9tGJ-THiK0SxMPlxK3D_RQT_GZUAlbqFGvFOcQ&amp\;h=AT3E8Bmqgct6UhTJ4s7Mv_ftvpeFWwf2aHazRd00vVto0UrWHffdzH8QLLeAIuQDGWxTEqJnReEczts_No2NcRMF93p8POGu75RRxUmZl2-d0O8bGG3vY4vLUwcBY4T_5g&amp\;__tn__=q&amp\;c[0]=AT3BMtUSRYEk3RM7kJ8-44z_XWcq9JOFs-rLYcvhIxkKD_TLzGdcf22HEszqcRmoNz7ceXUYj0Il838sHdXp9wxuaz7kyL_gqcXLGiV1ZfzgwCEktf7WGU-rvPrP52vQ3CVUZotUe6cCTU3OivilnmxjogZ8UmFNVxPimy8bYf1bGWY" rel="nofollow" role="link" style="border-color: currentcolor\; border-style: none\; border-width: 0px\; box-sizing: border-box\; cursor: pointer\; display: inline\; font-family: inherit\; list-style: outside none none\; margin: 0px\; outline-style: none\; outline-width: medium\; padding: 0px\; text-align: inherit\; text-decoration-line: none\; touch-action: manipulation\; -webkit-tap-highlight-color: transparent\;" tabindex="0" target="_blank">www.hopkinschamber.com.</a> Collect 10 stamps on your Passport to register for the grand prize of a $250 Chamber Check sponsored by Independence Bank. Register at all of the participating businesses for a chance to win 1 of 5 Chamber Checks.</div>\n\n<div class="o9v6fnle cxmmr5t8 oygrvhab hcukyx3x c1et5uql" style="color: rgb(5\, 5\, 5)\; font-family: inherit\; font-size: 14.86px\; font-variant-numeric: normal\; font-variant-east-asian: normal\; margin: 0.5em 0px 0px\; overflow-wrap: break-word\;">Thanks to our friends at Independence Bank\, 400 Local Love shopping bags filled with additional coupons\, gift cards\, giveaways\, and swag from Chamber member businesses.</div>\n\n<div class="o9v6fnle cxmmr5t8 oygrvhab hcukyx3x c1et5uql" style="color: rgb(5\, 5\, 5)\; font-family: inherit\; font-size: 14.86px\; font-variant-numeric: normal\; font-variant-east-asian: normal\; margin: 0.5em 0px 0px\; overflow-wrap: break-word\;">The Local Love bag pick-up is scheduled for Thursday\, Nov. 5th at 4:30 p.m. and Friday\, Nov. 6th at 7 a.m. the Madisonville City Park. Bags will be given out on a first come first serve basis. Please call the Chamber at 270-821-3435 with questions.</div>\n
LOCATION:
UID:e.1578.4366
SEQUENCE:3
DTSTAMP:20260424T193702Z
URL:https://business.hopkinscochamber.com/events/details/holiday-open-house-4366
END:VEVENT

END:VCALENDAR
