BEGIN:VCALENDAR
VERSION:2.0
PRODID:-//ChamberMaster//Event Calendar 2.0//EN
METHOD:PUBLISH
X-PUBLISHED-TTL:P3D
REFRESH-INTERVAL:P3D
CALSCALE:GREGORIAN
BEGIN:VEVENT
DTSTART:20211205T000000Z
DTEND:20211219T060000Z
X-MICROSOFT-CDO-ALLDAYEVENT:FALSE
SUMMARY:Holiday Lights Tour
DESCRIPTION:2nd Annual Kiwanis Holiday Lights Tour of Madisonville-Hopkins County including Christmas lighting displays at local homes\, businesses\, and organizations.
X-ALT-DESC;FMTTYPE=text/html:2nd Annual Kiwanis Holiday Lights Tour of Madisonville-Hopkins County including Christmas lighting displays at local homes\, businesses\, and organizations.
LOCATION:
UID:e.1578.5320
SEQUENCE:3
DTSTAMP:20260424T031607Z
URL:https://business.hopkinscochamber.com/events/details/holiday-lights-tour-5320
END:VEVENT

END:VCALENDAR
