BEGIN:VCALENDAR
VERSION:2.0
PRODID:-//ChamberMaster//Event Calendar 2.0//EN
METHOD:PUBLISH
X-PUBLISHED-TTL:P3D
REFRESH-INTERVAL:P3D
CALSCALE:GREGORIAN
BEGIN:VEVENT
DTSTART:20210617T233000Z
DTEND:20210618T003000Z
X-MICROSOFT-CDO-ALLDAYEVENT:FALSE
SUMMARY:Historical Society of Hopkins County
DESCRIPTION:Historical Society of Hopkins County.  The first meeting back after the Covid 19 Pandemic.  The program will be presented by Docent\, Danny Byrum\, entitled "Alive and Amazingly Well".  Wearing a mask is optional if you have had your Covid 19 Vaccine.
X-ALT-DESC;FMTTYPE=text/html:Historical Society of Hopkins County.&nbsp\; The first meeting back after the Covid 19 Pandemic.&nbsp\; The program will be presented by Docent\, Danny Byrum\, entitled &quot\;Alive and Amazingly Well&quot\;.&nbsp\; Wearing a mask is optional if you have had your Covid 19 Vaccine.
LOCATION:Fiscal Court Meeting Room at the Hopkins County Government Center (Old Post Office - North entrance).
UID:e.1578.5039
SEQUENCE:3
DTSTAMP:20260424T104206Z
URL:https://business.hopkinscochamber.com/events/details/historical-society-of-hopkins-county-5039
END:VEVENT

END:VCALENDAR
