BEGIN:VCALENDAR
VERSION:2.0
PRODID:-//ChamberMaster//Event Calendar 2.0//EN
METHOD:PUBLISH
X-PUBLISHED-TTL:P3D
REFRESH-INTERVAL:P3D
CALSCALE:GREGORIAN
BEGIN:VEVENT
DTSTART;VALUE=DATE:20230623
DTEND;VALUE=DATE:20230625
TRANSP:TRANSPARENT
X-MICROSOFT-CDO-ALLDAYEVENT:TRUE
SUMMARY:Highway 41 Yard sale
DESCRIPTION:Treasures abound for two full days along Highway 41! Make plans now to travel from north or south along Highway 41 to visit hundreds of booths selling anything that you can imagine!\n\nExperience 150 Miles of Shopping\, Snacking\, and Sightseeing through Western Kentucky along US Highway 41 in Henderson\, Webster\, Hopkins\,  Christian\, and Todd Counties!  270-821-4171 for the info!
X-ALT-DESC;FMTTYPE=text/html:<p style="margin-bottom: calc(1rem * var(--rps-global-vertical-space) * var(--rps-global-line-height))\; font-size: var(--tec-font-size-4)\; line-height: 1.4em\; margin-top: calc(1rem * var(--rps-global-vertical-space) * var(--rps-global-line-height))\; --p-drop-cap-font-size: 400%\; --p-drop-cap-line-height: 1\; --p-drop-cap-font-family: inherit\; color: rgb(20\, 24\, 39)\; font-family: Roboto\; background-attachment: unset !important\;">Treasures abound for two full days along Highway 41! Make plans now to travel from north or south along Highway 41 to visit hundreds of booths selling anything that you can imagine!</p>\n\n<p style="margin-bottom: var(--tec-spacer-6)\; font-size: var(--tec-font-size-4)\; line-height: 1.4em\; margin-top: calc(1rem * var(--rps-global-vertical-space) * var(--rps-global-line-height))\; --p-drop-cap-font-size: 400%\; --p-drop-cap-line-height: 1\; --p-drop-cap-font-family: inherit\; color: rgb(20\, 24\, 39)\; font-family: Roboto\; background-attachment: unset !important\;">Experience 150 Miles of Shopping\, Snacking\, and Sightseeing through Western Kentucky along US Highway 41 in Henderson\, Webster\, Hopkins\,&nbsp\; Christian\, and Todd Counties!&nbsp\; 270-821-4171 for the info!</p>\n
LOCATION:
UID:e.1578.5945
SEQUENCE:3
DTSTAMP:20260423T054656Z
URL:https://business.hopkinscochamber.com/events/details/highway-41-yard-sale-5945
END:VEVENT

END:VCALENDAR
