BEGIN:VCALENDAR
VERSION:2.0
PRODID:-//ChamberMaster//Event Calendar 2.0//EN
METHOD:PUBLISH
X-PUBLISHED-TTL:P3D
REFRESH-INTERVAL:P3D
CALSCALE:GREGORIAN
BEGIN:VEVENT
DTSTART:20220713T150000Z
DTEND:20220713T170000Z
X-MICROSOFT-CDO-ALLDAYEVENT:FALSE
SUMMARY:Help Your Business Stand Out with Google
DESCRIPTION:Join us on July 13th at Kentucky Innovation Station in Madisonville\, KY for an interactive Google workshop. Businesses will be learning best practice tips to help their business stand out (for free!) on Google Search & Maps. From creating your business profile to connecting with your customers\, this event will teach you how to Get Your Local Business Online and then how to Reach Customers Online! \n \n\nThis event is hosted by Kentucky Innovation Station and powered by Grow With Google.Goo
X-ALT-DESC;FMTTYPE=text/html:<span style="background-color:rgb(255\, 255\, 255)\; color:rgb(98\, 98\, 98)\; font-family:pt-sans\,sans-serif\; font-size:14px">Join us on July 13th at Kentucky Innovation Station in Madisonville\, KY for an interactive Google workshop. Businesses will be learning best practice tips to help their business stand out (for free!) on Google Search &amp\; Maps. From creating your business profile to connecting with your customers\, this event will teach you how to Get Your Local Business Online and then how to Reach Customers Online!&nbsp\;</span>\n<div>&nbsp\;</div>\n\n<div>This event is hosted by Kentucky Innovation Station and powered by Grow With Google.Goo</div>\n
LOCATION:
UID:e.1578.5902
SEQUENCE:3
DTSTAMP:20260423T182819Z
URL:https://business.hopkinscochamber.com/events/details/help-your-business-stand-out-with-google-5902
END:VEVENT

END:VCALENDAR
