BEGIN:VCALENDAR
VERSION:2.0
PRODID:-//ChamberMaster//Event Calendar 2.0//EN
METHOD:PUBLISH
X-PUBLISHED-TTL:P3D
REFRESH-INTERVAL:P3D
CALSCALE:GREGORIAN
BEGIN:VEVENT
DTSTART:20220512T170000Z
DTEND:20220512T180000Z
X-MICROSOFT-CDO-ALLDAYEVENT:FALSE
SUMMARY:HCYP Lunch Meeting
DESCRIPTION:
X-ALT-DESC;FMTTYPE=text/html:
LOCATION:Located in the First United Bank Annex
UID:e.1578.1808
SEQUENCE:3
DTSTAMP:20260423T210046Z
URL:https://business.hopkinscochamber.com/events/details/hcyp-lunch-meeting-05-12-2022-1808
END:VEVENT

END:VCALENDAR
