BEGIN:VCALENDAR
VERSION:2.0
PRODID:-//ChamberMaster//Event Calendar 2.0//EN
METHOD:PUBLISH
X-PUBLISHED-TTL:P3D
REFRESH-INTERVAL:P3D
CALSCALE:GREGORIAN
BEGIN:VEVENT
DTSTART:20210918T150000Z
DTEND:20210918T230000Z
X-MICROSOFT-CDO-ALLDAYEVENT:FALSE
SUMMARY:Harvest Fest At Mahr Park Community Event
DESCRIPTION:Get ready for some fall fun at first-annual Harvest Fest Community Event at Mahr Park! You will delight in many agriculture\, educational\, community\, retail\, and food vendors and activities. Kick back and enjoy some live local sounds and a cool fall breeze. Take a dive into the corn-pit\, get lost in a hay maze or "Touch-a-Tractor"! Guests will enjoy ample activities\, vendors\, and family fun!
X-ALT-DESC;FMTTYPE=text/html:<span style="font-family: Roboto\; font-size: 16px\;">Get ready for some fall fun at first-annual Harvest Fest Community Event at Mahr Park! You will delight in many agriculture\, educational\, community\, retail\, and food vendors and activities. Kick back and enjoy some live local sounds and a cool fall breeze. Take a dive into the corn-pit\, get lost in a hay maze or &ldquo\;Touch-a-Tractor&rdquo\;! Guests will enjoy ample activities\, vendors\, and family fun!</span>
LOCATION:Mahr Park Arboretum 642 Nebo Road
UID:e.1578.4522
SEQUENCE:3
DTSTAMP:20260424T070023Z
URL:https://business.hopkinscochamber.com/events/details/harvest-fest-at-mahr-park-community-event-4522
END:VEVENT

END:VCALENDAR
