BEGIN:VCALENDAR
VERSION:2.0
PRODID:-//ChamberMaster//Event Calendar 2.0//EN
METHOD:PUBLISH
X-PUBLISHED-TTL:P3D
REFRESH-INTERVAL:P3D
CALSCALE:GREGORIAN
BEGIN:VEVENT
DTSTART:20210917T220000Z
DTEND:20210918T020000Z
X-MICROSOFT-CDO-ALLDAYEVENT:FALSE
SUMMARY:Harvest Fest At Mahr Park Adult Night
DESCRIPTION:Get ready for some fall fun at first-annual Harvest Fest Adult Night at Mahr Park! Kick back and enjoy some live local sounds and a cool fall breeze. Guests will enjoy live music\, food\, and drink vendors!
X-ALT-DESC;FMTTYPE=text/html:<div class="tribe-events-single-event-description tribe-events-content" style="max-width: 100%\; padding: 0px\; width: 1520px\; font-family: Roboto\; font-size: 16px\; background-attachment: unset !important\;">\n<div class="e-content entry-content editor-styles-wrapper" style="background-attachment: unset !important\;">\n<div class="o9v6fnle cxmmr5t8 oygrvhab hcukyx3x c1et5uql" style="background-attachment: unset !important\;">Get ready for some fall fun at first-annual Harvest Fest Adult Night at Mahr Park! Kick back and enjoy some live local sounds and a cool fall breeze. Guests will enjoy live music\, food\, and drink vendors!</div>\n</div>\n</div>\n\n<nav class="tribe-events-cal-links" style="box-sizing: border-box\; font-size: 0px\; line-height: 1\; clear: both\; font-family: Roboto\; background-attachment: unset !important\;">\n<ul class="flexbox-grid" style="margin: -5px\; padding: 0px\; position: relative\; z-index: 1000\; box-sizing: border-box\; display: flex\; list-style-type: none\; font-size: 1rem\; line-height: 1\; flex-flow: row wrap\; background-attachment: unset !important\;">\n	<li style="margin: 0px\; padding: 0px\; display: block\; font-size: 1rem\; position: relative\; box-sizing: border-box\; border: 5px solid transparent\; background-attachment: unset !important\;">&nbsp\;</li>\n</ul>\n</nav>\n
LOCATION:Mark Park Arboretum 642 Nebo Road
UID:e.1578.4521
SEQUENCE:3
DTSTAMP:20260424T070151Z
URL:https://business.hopkinscochamber.com/events/details/harvest-fest-at-mahr-park-adult-night-4521
END:VEVENT

END:VCALENDAR
