BEGIN:VCALENDAR
VERSION:2.0
PRODID:-//ChamberMaster//Event Calendar 2.0//EN
METHOD:PUBLISH
X-PUBLISHED-TTL:P3D
REFRESH-INTERVAL:P3D
CALSCALE:GREGORIAN
BEGIN:VEVENT
DTSTART:20210708T133000Z
DTEND:20210708T143000Z
X-MICROSOFT-CDO-ALLDAYEVENT:FALSE
SUMMARY:Grow Your Business with Geofencing
DESCRIPTION:Join Jessica Casebolt to learn how your small business can use this digital marketing tactic to target specific areas of your city or to geofence your competitors to gain more market share.
X-ALT-DESC;FMTTYPE=text/html:Join Jessica Casebolt to learn how your small business can use this digital marketing tactic to target specific areas of your city or to geofence your competitors to gain more market share.
LOCATION:Hopkins County Regional Chamber of Commerce 15 E. Center St. Madisonville\, Ky 42431
UID:e.1578.5185
SEQUENCE:3
DTSTAMP:20260424T103908Z
URL:https://business.hopkinscochamber.com/events/details/grow-your-business-with-geofencing-5185
END:VEVENT

END:VCALENDAR
