BEGIN:VCALENDAR
VERSION:2.0
PRODID:-//ChamberMaster//Event Calendar 2.0//EN
METHOD:PUBLISH
X-PUBLISHED-TTL:P3D
REFRESH-INTERVAL:P3D
CALSCALE:GREGORIAN
BEGIN:VEVENT
DTSTART:20210510T130000Z
DTEND:20210510T140000Z
X-MICROSOFT-CDO-ALLDAYEVENT:FALSE
SUMMARY:Grow with Google Workshop - Get Your Local Business on Google Search and Maps
DESCRIPTION:Learn about Google My Business\, a free tool for local businesses that want to connect with customers on Google Search and Maps. Get (virtual) hands-on help in creating or updating your business profile or a simple website.\n\n \n\nIn this live webinar\, I will show you how to:\n\n \n\n\n	Create or claim your Business Profile on Google\n	Manage your business info across Google Search and Maps\n	Use Google My Business to connect with potential customers\n	Create a free website using the info from your Business Profile
X-ALT-DESC;FMTTYPE=text/html:<p style="box-sizing: border-box\; margin: 0px\; padding: 0px\; color: rgb(65\, 65\, 65)\; font-family: &quot\;Google Sans&quot\;\, Roboto\, Arial\, sans-serif\; font-size: 16px\; background-color: rgb(255\, 255\, 255)\;"><span style="box-sizing: border-box\; font-size: 14px\;">Learn about Google My Business\, a free tool for local businesses that want to connect with customers on Google Search and Maps. Get (virtual) hands-on help in creating or updating your business profile or a simple website.</span></p>\n\n<p style="box-sizing: border-box\; margin: 0px\; padding: 0px\; color: rgb(65\, 65\, 65)\; font-family: &quot\;Google Sans&quot\;\, Roboto\, Arial\, sans-serif\; font-size: 16px\; background-color: rgb(255\, 255\, 255)\;">&nbsp\;</p>\n\n<p style="box-sizing: border-box\; margin: 0px\; padding: 0px\; color: rgb(65\, 65\, 65)\; font-family: &quot\;Google Sans&quot\;\, Roboto\, Arial\, sans-serif\; font-size: 16px\; background-color: rgb(255\, 255\, 255)\;"><span style="box-sizing: border-box\; font-size: 14px\;">In this live webinar\, I will show you how to:</span></p>\n\n<p style="box-sizing: border-box\; margin: 0px\; padding: 0px\; color: rgb(65\, 65\, 65)\; font-family: &quot\;Google Sans&quot\;\, Roboto\, Arial\, sans-serif\; font-size: 16px\; background-color: rgb(255\, 255\, 255)\;">&nbsp\;</p>\n\n<ul style="box-sizing: border-box\; margin-top: 0px\; margin-right: 0px\; margin-bottom: var(--lwc-spacingSmall\,0.75rem)\; margin-left: var(--lwc-spacingLarge\,1.5rem)\; padding: 0px\; list-style-position: initial\; list-style-image: initial\; color: rgb(65\, 65\, 65)\; font-family: &quot\;Google Sans&quot\;\, Roboto\, Arial\, sans-serif\; font-size: 16px\; background-color: rgb(255\, 255\, 255)\;">\n	<li style="box-sizing: border-box\;"><span style="box-sizing: border-box\; font-size: 14px\;">Create or claim your Business Profile on Google</span></li>\n	<li style="box-sizing: border-box\;"><span style="box-sizing: border-box\; font-size: 14px\;">Manage your business info across Google Search and Maps</span></li>\n	<li style="box-sizing: border-box\;"><span style="box-sizing: border-box\; font-size: 14px\;">Use Google My Business to connect with potential customers</span></li>\n	<li style="box-sizing: border-box\;"><span style="box-sizing: border-box\; font-size: 14px\;">Create a free website using the info from your Business Profile</span></li>\n</ul>\n
LOCATION:Virtual
UID:e.1578.4523
SEQUENCE:3
DTSTAMP:20260424T120519Z
URL:https://business.hopkinscochamber.com/events/details/grow-with-google-workshop-get-your-local-business-on-google-search-and-maps-4523
END:VEVENT

END:VCALENDAR
