BEGIN:VCALENDAR
VERSION:2.0
PRODID:-//ChamberMaster//Event Calendar 2.0//EN
METHOD:PUBLISH
X-PUBLISHED-TTL:P3D
REFRESH-INTERVAL:P3D
CALSCALE:GREGORIAN
BEGIN:VEVENT
DTSTART:20210318T170000Z
DTEND:20210318T180000Z
X-MICROSOFT-CDO-ALLDAYEVENT:FALSE
SUMMARY:Grow with Google - Reach Customers Online With Google
DESCRIPTION:Learn how customers find your business online and how to promote your business using Search Engine Optimization (SEO) and Smart Campaigns in Google Ads.\n\n\n\nIn this live webinar\, I will discuss best practices for:\n\n\n\n  Improving your website's visibility in Google's organic search results\, on all devices \n\n  Creating a free Google My Business listing \n\n  Advertising your business on Google
X-ALT-DESC;FMTTYPE=text/html:<span style="display: inline !important\; float: none\; background-color: rgb(255\, 255\, 255)\; color: rgb(51\, 51\, 51)\; font-family: lato-regular\,&quot\;HelveticaNeueW01-55Roma&quot\;\,&quot\;Helvetica Neue&quot\;\,Helvetica\,Arial\,sans-serif\; font-size: 14px\; font-style: normal\; font-variant: normal\; font-weight: 400\; letter-spacing: normal\; orphans: 2\; overflow-wrap: break-word\; text-align: left\; text-decoration: none\; text-indent: 0px\; text-transform: none\; -webkit-text-stroke-width: 0px\; white-space: pre-wrap\; word-spacing: 0px\;">Learn how customers find your business online and how to promote your business using Search Engine Optimization (SEO) and Smart Campaigns in Google Ads.<br />\n<br />\nIn this live webinar\, I will discuss best practices for:<br />\n<br />\n&bull\; Improving your website&rsquo\;s visibility in Google&rsquo\;s organic search results\, on all devices&#8232\;<br />\n&bull\; Creating a free Google My Business listing&#8232\;<br />\n&bull\; Advertising your business on Google&#8232\;</span>
LOCATION:
UID:e.1578.4543
SEQUENCE:3
DTSTAMP:20260424T155718Z
URL:https://business.hopkinscochamber.com/events/details/grow-with-google-reach-customers-online-with-google-4543
END:VEVENT

END:VCALENDAR
