BEGIN:VCALENDAR
VERSION:2.0
PRODID:-//ChamberMaster//Event Calendar 2.0//EN
METHOD:PUBLISH
X-PUBLISHED-TTL:P3D
REFRESH-INTERVAL:P3D
CALSCALE:GREGORIAN
BEGIN:VEVENT
DTSTART:20210605T150000Z
DTEND:20210605T210000Z
X-MICROSOFT-CDO-ALLDAYEVENT:FALSE
SUMMARY:Grapevine Recreational Trails Grand Reveal
DESCRIPTION:Grapevine Recreational Trails Grand Reveal.  Community\,  mountain bikers and hikers all welcome.  Food vendors and demonstrations happening all day.
X-ALT-DESC;FMTTYPE=text/html:Grapevine Recreational Trails Grand Reveal.&nbsp\; Community\,&nbsp\; mountain bikers and hikers all welcome.&nbsp\; Food vendors and demonstrations happening all day.<br />\n&nbsp\;
LOCATION:Grapevine Recreational Trails 2036 Grapevine Rd. Madisonville\, KY
UID:e.1578.5034
SEQUENCE:3
DTSTAMP:20260424T103720Z
URL:https://business.hopkinscochamber.com/events/details/grapevine-recreational-trails-grand-reveal-5034
END:VEVENT

END:VCALENDAR
