BEGIN:VCALENDAR
VERSION:2.0
PRODID:-//ChamberMaster//Event Calendar 2.0//EN
METHOD:PUBLISH
X-PUBLISHED-TTL:P3D
REFRESH-INTERVAL:P3D
CALSCALE:GREGORIAN
BEGIN:VEVENT
DTSTART:20210929T000000Z
DTEND:20210929T020000Z
X-MICROSOFT-CDO-ALLDAYEVENT:FALSE
SUMMARY:Genealogical Society Meeting
DESCRIPTION:This Genealogical Society meeting will feature guest speaker Tammy Turner\, who will talk about her book "A Life In The Blues".
X-ALT-DESC;FMTTYPE=text/html:This Genealogical Society meeting will feature guest speaker Tammy Turner\, who will talk about her book &quot\;A Life In The Blues&quot\;.&nbsp\;
LOCATION:This event will take place at the Government Center. 56 N Main Street\, Madisonville KY 42431.
UID:e.1578.5253
SEQUENCE:3
DTSTAMP:20260424T065843Z
URL:https://business.hopkinscochamber.com/events/details/genealogical-society-meeting-5253
END:VEVENT

END:VCALENDAR
