BEGIN:VCALENDAR
VERSION:2.0
PRODID:-//ChamberMaster//Event Calendar 2.0//EN
METHOD:PUBLISH
X-PUBLISHED-TTL:P3D
REFRESH-INTERVAL:P3D
CALSCALE:GREGORIAN
BEGIN:VEVENT
DTSTART:20211210T233000Z
DTEND:20211211T020000Z
X-MICROSOFT-CDO-ALLDAYEVENT:FALSE
SUMMARY:Genealogical Society Christmas Dinner
DESCRIPTION:This Christmas dinner potluck is exclusively for the members of the Genealogical Society and The Historical Society of Hopkins County. If you would like to attend\, you still have time to join one\, or both\, of these organizations! Noelle Thompson\, second runner-up in the Miss Tennessee Scholarship Pageant\, from Clarksville\, will present a musical program. More details and location to come..
X-ALT-DESC;FMTTYPE=text/html:This Christmas dinner potluck is exclusively for the members of the Genealogical Society and The Historical Society of Hopkins County. If you would like to attend\, you still have time to join one\, or both\, of these organizations! Noelle Thompson\, second runner-up in the Miss Tennessee Scholarship Pageant\, from Clarksville\, will present a musical program. More details and location to come..
LOCATION:
UID:e.1578.5259
SEQUENCE:3
DTSTAMP:20260424T031540Z
URL:https://business.hopkinscochamber.com/events/details/genealogical-society-christmas-dinner-5259
END:VEVENT

END:VCALENDAR
