BEGIN:VCALENDAR
VERSION:2.0
PRODID:-//ChamberMaster//Event Calendar 2.0//EN
METHOD:PUBLISH
X-PUBLISHED-TTL:P3D
REFRESH-INTERVAL:P3D
CALSCALE:GREGORIAN
BEGIN:VEVENT
DTSTART:20210911T150000Z
DTEND:20210911T170000Z
X-MICROSOFT-CDO-ALLDAYEVENT:FALSE
SUMMARY:Genealogical Society - Book Talk with Wes Swietek
DESCRIPTION:Join the Genealogical Society\, with guest speaker Wes Swietek\, to talk about his book "The Cemetery Road Murders".
X-ALT-DESC;FMTTYPE=text/html:Join the Genealogical Society\, with guest speaker Wes Swietek\, to talk about his book &quot\;The Cemetery Road Murders&quot\;.
LOCATION:This event will take place at the Government Center. 56 N Main Street\, Madisonville KY 42431.
UID:e.1578.5252
SEQUENCE:3
DTSTAMP:20260424T070022Z
URL:https://business.hopkinscochamber.com/events/details/genealogical-society-book-talk-with-wes-swietek-5252
END:VEVENT

END:VCALENDAR
