BEGIN:VCALENDAR
VERSION:2.0
PRODID:-//ChamberMaster//Event Calendar 2.0//EN
METHOD:PUBLISH
X-PUBLISHED-TTL:P3D
REFRESH-INTERVAL:P3D
CALSCALE:GREGORIAN
BEGIN:VEVENT
DTSTART:20211001T220000Z
DTEND:20211002T010000Z
X-MICROSOFT-CDO-ALLDAYEVENT:FALSE
SUMMARY:First Friday
DESCRIPTION:For the convenience of our valued customers that work during our regular business hours\, we will be open until 8 pm on the first Friday of each month. So if you need to restock on your Merle Norman skin care and cosmetics\, come see us!
X-ALT-DESC;FMTTYPE=text/html:<span style="font-size: 12pt\; font-family: &quot\;Times New Roman&quot\;\, serif\;">For the convenience of our valued customers that work during our regular business hours\, we will be open until 8 pm on the first Friday of each month. So if you need to restock on your Merle Norman skin care and cosmetics\, come see us!</span>
LOCATION:140 S. Main St.\, Ste 104 Madisonville KY 42431
UID:e.1578.5224
SEQUENCE:3
DTSTAMP:20260424T055028Z
URL:https://business.hopkinscochamber.com/events/details/first-friday-10-01-2021-5224
END:VEVENT

END:VCALENDAR
