BEGIN:VCALENDAR
VERSION:2.0
PRODID:-//ChamberMaster//Event Calendar 2.0//EN
METHOD:PUBLISH
X-PUBLISHED-TTL:P3D
REFRESH-INTERVAL:P3D
CALSCALE:GREGORIAN
BEGIN:VEVENT
DTSTART:20211210T210000Z
DTEND:20211210T230000Z
X-MICROSOFT-CDO-ALLDAYEVENT:FALSE
SUMMARY:Farmers Bank & Trust Santa Visit
DESCRIPTION:Santa\, Mrs. Claus and their elves and reindeer are coming to Farmers Bank & Trust! Come on out and make sure your name is on the nice list this year!
X-ALT-DESC;FMTTYPE=text/html:Santa\, Mrs. Claus and their elves and reindeer are coming to Farmers Bank &amp\; Trust! Come on out and make sure your name is on the nice list this year!&nbsp\;
LOCATION:2215 N. Main Street Madisonville\, KY 42431
UID:e.1578.5325
SEQUENCE:3
DTSTAMP:20260424T031844Z
URL:https://business.hopkinscochamber.com/events/details/farmers-bank-trust-santa-visit-5325
END:VEVENT

END:VCALENDAR
