BEGIN:VCALENDAR
VERSION:2.0
PRODID:-//ChamberMaster//Event Calendar 2.0//EN
METHOD:PUBLISH
X-PUBLISHED-TTL:P3D
REFRESH-INTERVAL:P3D
CALSCALE:GREGORIAN
BEGIN:VEVENT
DTSTART:20231122T130000Z
DTEND:20231122T143000Z
X-MICROSOFT-CDO-ALLDAYEVENT:FALSE
SUMMARY:Farm City Breakfast
DESCRIPTION:The 49th Annual Farm City Breakfast presented by Tyson Foods\, one of the Chamber's most popular events\, will be at 7:00 a.m. Wednesday\, November 22\, at the Ballard Convention Center. This time-honored tradition celebrates all those who support our community through their work in the agriculture industry in Hopkins County.
X-ALT-DESC;FMTTYPE=text/html:<span style="color: rgb(51\, 51\, 51)\; background-color: rgb(255\, 255\, 255)\; font-family: arial\; font-size: 12px\;">The 49th Annual&nbsp\;</span><strong style="color: rgb(51\, 51\, 51)\; background-color: rgb(255\, 255\, 255)\; font-family: arial\; font-size: 12px\;"><span data-preserver-spaces="true">Farm City Breakfast presented by Tyson Foods\,&nbsp\;</span></strong><span data-preserver-spaces="true" style="color: rgb(51\, 51\, 51)\; background-color: rgb(255\, 255\, 255)\; font-family: arial\; font-size: 12px\;">one of the Chamber&rsquo\;s most popular events\, will be at&nbsp\;</span><strong style="color: rgb(51\, 51\, 51)\; background-color: rgb(255\, 255\, 255)\; font-family: arial\; font-size: 12px\;"><span data-preserver-spaces="true"><span style="color: rgb(14\, 16\, 26)\;">7:00 a.m. Wednesday\, November 22\, at the Ballard Convention Center.&nbsp\;</span></span></strong><span style="color: rgb(51\, 51\, 51)\; background-color: rgb(255\, 255\, 255)\; font-family: arial\; font-size: 12px\;">This time-honored tradition celebrates all those who support our community through their work in the agriculture industry in Hopkins County.</span><span style="color: rgb(51\, 51\, 51)\; background-color: rgb(255\, 255\, 255)\; font-family: arial\; font-size: 12px\;">&nbsp\;</span>
LOCATION:
UID:e.1578.5951
SEQUENCE:3
DTSTAMP:20260422T222339Z
URL:https://business.hopkinscochamber.com/events/details/farm-city-breakfast-5951
END:VEVENT

END:VCALENDAR
