BEGIN:VCALENDAR
VERSION:2.0
PRODID:-//ChamberMaster//Event Calendar 2.0//EN
METHOD:PUBLISH
X-PUBLISHED-TTL:P3D
REFRESH-INTERVAL:P3D
CALSCALE:GREGORIAN
BEGIN:VEVENT
DTSTART:20221123T130000Z
DTEND:20221123T140000Z
X-MICROSOFT-CDO-ALLDAYEVENT:FALSE
SUMMARY:Farm City Breakfast
DESCRIPTION:Join us for the 48th annual Farm City Breakfast as we celebrate a rich history of agriculture in our Hopkins County community.
X-ALT-DESC;FMTTYPE=text/html:<span style="color: rgb(51\, 51\, 51)\; font-family: arial\; font-size: 12px\; background-color: rgb(255\, 255\, 255)\;">Join us for the 48th annual Farm City Breakfast as we celebrate a rich history of agriculture in our Hopkins County community.</span>
LOCATION:Ballard Convention Center 605 E. Arch St. Madisonville\, KY 42431
UID:e.1578.5927
SEQUENCE:3
DTSTAMP:20260423T130055Z
URL:https://business.hopkinscochamber.com/events/details/farm-city-breakfast-5927
END:VEVENT

END:VCALENDAR
