BEGIN:VCALENDAR
VERSION:2.0
PRODID:-//ChamberMaster//Event Calendar 2.0//EN
METHOD:PUBLISH
X-PUBLISHED-TTL:P3D
REFRESH-INTERVAL:P3D
CALSCALE:GREGORIAN
BEGIN:VEVENT
DTSTART:20211030T190000Z
DTEND:20211030T210000Z
X-MICROSOFT-CDO-ALLDAYEVENT:FALSE
SUMMARY:Fall Plant Swap - Plants and Treats!
DESCRIPTION:Hopkins County Master Gardeners are hosting a plant swap and Trunk or Treat!  The event is free and open to the public. Even if you do not have a plant to bring\, they will have plenty for everyone!
X-ALT-DESC;FMTTYPE=text/html:<span style="font-family: Roboto\; font-size: 16px\;">Hopkins County Master Gardeners are hosting a plant swap and Trunk or Treat!&nbsp\; The event is free and open to the public. Even if you do not have a plant to bring\, they will have plenty for everyone!</span>
LOCATION:Mahr Park at the Danny Peyton Pavilion 55 Mahr Park Drive\, Madisonville KY 42431
UID:e.1578.5300
SEQUENCE:3
DTSTAMP:20260424T055613Z
URL:https://business.hopkinscochamber.com/events/details/fall-plant-swap-plants-and-treats-5300
END:VEVENT

END:VCALENDAR
