BEGIN:VCALENDAR
VERSION:2.0
PRODID:-//ChamberMaster//Event Calendar 2.0//EN
METHOD:PUBLISH
X-PUBLISHED-TTL:P3D
REFRESH-INTERVAL:P3D
CALSCALE:GREGORIAN
BEGIN:VEVENT
DTSTART:20211002T150000Z
DTEND:20211002T220000Z
X-MICROSOFT-CDO-ALLDAYEVENT:FALSE
SUMMARY:Fall Festival Fun at Anton Fire Department
DESCRIPTION:Fall Festival! Free Live music! All kids activities including bounce house\, corn pit and pumpkin patch will be free. Plates for sale and Live Silent Auction with online bidding available!
X-ALT-DESC;FMTTYPE=text/html:<span style="font-family: Roboto\; font-size: 16px\;">Fall Festival! Free Live music! All kids activities including bounce house\, corn pit and pumpkin patch will be free. Plates for sale and Live Silent Auction with online bidding available!</span>
LOCATION:This event will be held at 180 Hicklin Road
UID:e.1578.5206
SEQUENCE:3
DTSTAMP:20260424T065950Z
URL:https://business.hopkinscochamber.com/events/details/fall-festival-fun-at-anton-fire-department-5206
END:VEVENT

END:VCALENDAR
