BEGIN:VCALENDAR
VERSION:2.0
PRODID:-//ChamberMaster//Event Calendar 2.0//EN
METHOD:PUBLISH
X-PUBLISHED-TTL:P3D
REFRESH-INTERVAL:P3D
CALSCALE:GREGORIAN
BEGIN:VEVENT
DTSTART:20230721T163000Z
DTEND:20230721T170000Z
X-MICROSOFT-CDO-ALLDAYEVENT:FALSE
SUMMARY:Falcon Creek Boutique-ribbon cutting
DESCRIPTION:Please Join us for the ribbon cutting of Falcon Creek Boutique.
X-ALT-DESC;FMTTYPE=text/html:Please Join us for the ribbon cutting of Falcon Creek Boutique.&nbsp\;
LOCATION:1470 Chelsea Dr. Madisonville ky\, 42431
UID:e.1578.5960
SEQUENCE:3
DTSTAMP:20260423T033227Z
URL:https://business.hopkinscochamber.com/events/details/falcon-creek-boutique-ribbon-cutting-5960
END:VEVENT

END:VCALENDAR
