BEGIN:VCALENDAR
VERSION:2.0
PRODID:-//ChamberMaster//Event Calendar 2.0//EN
METHOD:PUBLISH
X-PUBLISHED-TTL:P3D
REFRESH-INTERVAL:P3D
CALSCALE:GREGORIAN
BEGIN:VEVENT
DTSTART:20240412T230000Z
DTEND:20240413T020000Z
X-MICROSOFT-CDO-ALLDAYEVENT:FALSE
SUMMARY:Evening of Stars
DESCRIPTION:The Hopkins County Regional Chamber of Commerce is excited to announce our 11th annual Evening of Stars. There will be appetizers\, dinner\, and a cash bar. We will also be presenting the Hopkins Chamber's annual Business Awards. And we are bringing back a fan favorite - The Wine & Bourbon Pull! This is an event you don't want to miss!
X-ALT-DESC;FMTTYPE=text/html:The Hopkins County Regional Chamber of Commerce is excited to announce our 11th annual Evening of Stars.&nbsp\;There will be appetizers\, dinner\, and a cash bar. We will also be presenting the Hopkins Chamber&#39\;s annual Business Awards. And we are bringing back a fan favorite - The&nbsp\;Wine &amp\; Bourbon Pull! This is an event you don&#39\;t want to miss!&nbsp\;&nbsp\;
LOCATION:Ballard Convention Center 605 E Arch St Madisonville KY 42431
UID:e.1578.5982
SEQUENCE:3
DTSTAMP:20260422T124405Z
URL:https://business.hopkinscochamber.com/events/details/evening-of-stars-5982
END:VEVENT

END:VCALENDAR
