BEGIN:VCALENDAR
VERSION:2.0
PRODID:-//ChamberMaster//Event Calendar 2.0//EN
METHOD:PUBLISH
X-PUBLISHED-TTL:P3D
REFRESH-INTERVAL:P3D
CALSCALE:GREGORIAN
BEGIN:VEVENT
DTSTART:20230421T230000Z
DTEND:20230422T020000Z
X-MICROSOFT-CDO-ALLDAYEVENT:FALSE
SUMMARY:Evening of Stars
DESCRIPTION:The Hopkins County Regional Chamber of Commerce is excited to announce our 10th annual Evening of Stars. There will be appetizers\, dinner\, and a cash bar. We will also be presenting the Hopkins Chamber's annual Business Awards. And we are bringing back a fan favorite - The Wine & Bourbon Pull! This is an event you don't want to miss!
X-ALT-DESC;FMTTYPE=text/html:<span style="color: rgb(51\, 51\, 51)\; font-family: sans-serif\, Arial\, Verdana\, &quot\;Trebuchet MS&quot\;\; font-size: 13px\; background-color: rgb(255\, 255\, 255)\;">The Hopkins County Regional Chamber of Commerce is excited to announce our 10th annual Evening of Stars.&nbsp\;</span><span style="color: rgb(51\, 51\, 51)\; font-family: sans-serif\, Arial\, Verdana\, &quot\;Trebuchet MS&quot\;\; font-size: 13px\; background-color: rgb(255\, 255\, 255)\;">There will be appetizers\, dinner\, and a cash bar. We will also be presenting the Hopkins Chamber&#39\;s annual Business Awards. And we are bringing back a fan favorite - The</span><span style="color: rgb(51\, 51\, 51)\; font-family: sans-serif\, Arial\, Verdana\, &quot\;Trebuchet MS&quot\;\; font-size: 13px\; background-color: rgb(255\, 255\, 255)\;">&nbsp\;Wine &amp\; Bourbon Pull! This is an event you don&#39\;t want to miss!&nbsp\;&nbsp\;</span>
LOCATION:Ballard Convention Center 605 E Arch St Madisonville KY 42431
UID:e.1578.5934
SEQUENCE:3
DTSTAMP:20260423T070117Z
URL:https://business.hopkinscochamber.com/events/details/evening-of-stars-5934
END:VEVENT

END:VCALENDAR
