BEGIN:VCALENDAR
VERSION:2.0
PRODID:-//ChamberMaster//Event Calendar 2.0//EN
METHOD:PUBLISH
X-PUBLISHED-TTL:P3D
REFRESH-INTERVAL:P3D
CALSCALE:GREGORIAN
BEGIN:VEVENT
DTSTART:20220429T230000Z
DTEND:20220430T030000Z
X-MICROSOFT-CDO-ALLDAYEVENT:FALSE
SUMMARY:Evening of Stars
DESCRIPTION:The Hopkins County Regional Chamber of Commerce is excited to announce our 10th annual Evening of Stars presented by Baptist Health Deaconess Madisonville. \n\nThere will be appetizers\, a formal dinner\, and a cash bar. We will also be presenting the Hopkins Chamber's annual Business Awards.\n\nAnd new this year\, we have a Wine & Bourbon Pull! This is an event you don't want to miss!
X-ALT-DESC;FMTTYPE=text/html:The Hopkins County Regional Chamber of Commerce is excited to announce our 10th annual Evening of Stars presented by Baptist Health Deaconess Madisonville.&nbsp\;<br />\nThere will be appetizers\, a formal dinner\, and a cash bar. We will also be presenting the Hopkins Chamber&#39\;s annual Business Awards.<br />\nAnd new this year\, we have a Wine &amp\; Bourbon Pull! This is an event you don&#39\;t want to miss!&nbsp\;&nbsp\;
LOCATION:Ballard Convention Center 605 E Arch St Madisonville KY 42431
UID:e.1578.5655
SEQUENCE:3
DTSTAMP:20260423T233511Z
URL:https://business.hopkinscochamber.com/events/details/evening-of-stars-04-29-2022-5655
END:VEVENT

END:VCALENDAR
